BEGIN:VCALENDAR
VERSION:2.0
METHOD:PUBLISH
BEGIN:VEVENT
DTSTART:20190818T223000Z
DTEND:20180820T030000Z
LOCATION:International Conference Centre, Sydney |  http://esa-srb.org.au/venue-location/
TRANSP: OPAQUE
SEQUENCE:0
UID:
DTSTAMP:20190227T023916Z
SUMMARY:ENSA 2018 - Conference commences
DESCRIPTION:
PRIORITY:1
CLASS:PUBLIC
BEGIN:VALARM
TRIGGER:-PT10080M
ACTION:DISPLAY
DESCRIPTION:Reminder
END:VALARM
END:VEVENT
END:VCALENDAR
