BEGIN:VCALENDAR
VERSION:2.0
METHOD:PUBLISH
BEGIN:VEVENT
DTSTART:20190607T135900Z
DTEND:20190607T135900Z
LOCATION:Here
TRANSP: OPAQUE
SEQUENCE:0
UID:
DTSTAMP:20190227T023914Z
SUMMARY:Earlybird and Abstract Deadline
DESCRIPTION:
PRIORITY:1
CLASS:PUBLIC
BEGIN:VALARM
TRIGGER:-PT10080M
ACTION:DISPLAY
DESCRIPTION:Reminder
END:VALARM
END:VEVENT
END:VCALENDAR
